Package: SIMD Version: 1.24.0 Command: rm -rf SIMD.buildbin-libdir && mkdir SIMD.buildbin-libdir && /Users/biocbuild/BBS/utils/build-universal.sh SIMD_1.24.0.tar.gz /Library/Frameworks/R.framework/Resources/bin/R SIMD.buildbin-libdir StartedAt: 2025-01-31 13:43:22 -0500 (Fri, 31 Jan 2025) EndedAt: 2025-01-31 13:43:30 -0500 (Fri, 31 Jan 2025) EllapsedTime: 8.7 seconds RetCode: 0 Status: OK PackageFile: SIMD_1.24.0.tgz PackageFileSize: 375.9 KiB