Package: SIMAT Version: 1.38.0 Command: /home/biocbuild/R/R/bin/R CMD check --install=check:SIMAT.install-out.txt --library=/home/biocbuild/R/R/site-library --no-vignettes --timings SIMAT_1.38.0.tar.gz StartedAt: 2025-01-31 10:28:02 -0000 (Fri, 31 Jan 2025) EndedAt: 2025-01-31 10:29:12 -0000 (Fri, 31 Jan 2025) EllapsedTime: 70.1 seconds RetCode: 0 Status: OK CheckDir: SIMAT.Rcheck Warnings: 0