Package: SIMAT Version: 1.38.0 Command: chmod a+r SIMAT -R && F:\biocbuild\bbs-3.20-bioc\R\bin\R.exe CMD build --keep-empty-dirs --no-resave-data SIMAT StartedAt: 2025-03-31 21:57:15 -0400 (Mon, 31 Mar 2025) EndedAt: 2025-03-31 21:57:49 -0400 (Mon, 31 Mar 2025) EllapsedTime: 33.7 seconds RetCode: 0 Status: OK PackageFile: SIMAT_1.38.0.tar.gz PackageFileSize: 1002 KiB