Package: SIMAT Version: 1.38.0 Command: /Library/Frameworks/R.framework/Resources/bin/R CMD check --install=check:SIMAT.install-out.txt --library=/Library/Frameworks/R.framework/Resources/library --no-vignettes --timings SIMAT_1.38.0.tar.gz StartedAt: 2025-02-04 10:13:36 -0500 (Tue, 04 Feb 2025) EndedAt: 2025-02-04 10:16:02 -0500 (Tue, 04 Feb 2025) EllapsedTime: 146.1 seconds RetCode: 0 Status: OK CheckDir: SIMAT.Rcheck Warnings: 0