Package: SIMAT Version: 1.38.0 Command: /Library/Frameworks/R.framework/Resources/bin/R CMD build --keep-empty-dirs --no-resave-data SIMAT StartedAt: 2025-04-01 07:54:32 -0400 (Tue, 01 Apr 2025) EndedAt: 2025-04-01 07:54:58 -0400 (Tue, 01 Apr 2025) EllapsedTime: 25.8 seconds RetCode: 0 Status: OK PackageFile: SIMAT_1.38.0.tar.gz PackageFileSize: 1.038 MiB