Package: SIM Version: 1.76.0 Command: /home/biocbuild/R/R/bin/R CMD build --keep-empty-dirs --no-resave-data SIM StartedAt: 2025-02-04 03:01:05 -0000 (Tue, 04 Feb 2025) EndedAt: 2025-02-04 03:01:59 -0000 (Tue, 04 Feb 2025) EllapsedTime: 54.1 seconds RetCode: 0 Status: OK PackageFile: SIM_1.76.0.tar.gz PackageFileSize: 451.8 KiB