Package: SIM Version: 1.76.0 Command: /Library/Frameworks/R.framework/Resources/bin/R CMD INSTALL SIM StartedAt: 2025-03-31 16:15:50 -0400 (Mon, 31 Mar 2025) EndedAt: 2025-03-31 16:16:31 -0400 (Mon, 31 Mar 2025) EllapsedTime: 40.7 seconds RetCode: 0 Status: OK