Package: SIM Version: 1.76.0 Command: /home/biocbuild/R/R/bin/R CMD INSTALL SIM StartedAt: 2024-11-19 21:16:22 -0000 (Tue, 19 Nov 2024) EndedAt: 2024-11-19 21:16:49 -0000 (Tue, 19 Nov 2024) EllapsedTime: 26.5 seconds RetCode: 0 Status: OK