Package: SICtools Version: 1.36.0 Command: /home/biocbuild/R/R/bin/R CMD INSTALL SICtools StartedAt: 2025-03-31 20:31:15 -0000 (Mon, 31 Mar 2025) EndedAt: 2025-03-31 20:32:05 -0000 (Mon, 31 Mar 2025) EllapsedTime: 50.0 seconds RetCode: 0 Status: OK