Package: SICtools Version: 1.36.0 Command: /home/biocbuild/R/R/bin/R CMD build --keep-empty-dirs --no-resave-data SICtools StartedAt: 2025-04-01 02:41:44 -0000 (Tue, 01 Apr 2025) EndedAt: 2025-04-01 02:42:45 -0000 (Tue, 01 Apr 2025) EllapsedTime: 61.0 seconds RetCode: 0 Status: OK PackageFile: SICtools_1.36.0.tar.gz PackageFileSize: 1.528 MiB