Package: SICtools Version: 1.36.0 Command: /Library/Frameworks/R.framework/Resources/bin/R CMD check --install=check:SICtools.install-out.txt --library=/Library/Frameworks/R.framework/Resources/library --no-vignettes --timings SICtools_1.36.0.tar.gz StartedAt: 2025-04-02 08:47:05 -0400 (Wed, 02 Apr 2025) EndedAt: 2025-04-02 08:48:58 -0400 (Wed, 02 Apr 2025) EllapsedTime: 113.4 seconds RetCode: 0 Status: WARNINGS CheckDir: SICtools.Rcheck Warnings: 1