Package: SICtools Version: 1.36.0 Command: /Library/Frameworks/R.framework/Resources/bin/R CMD build --keep-empty-dirs --no-resave-data SICtools StartedAt: 2025-04-01 07:47:29 -0400 (Tue, 01 Apr 2025) EndedAt: 2025-04-01 07:48:40 -0400 (Tue, 01 Apr 2025) EllapsedTime: 71.6 seconds RetCode: 0 Status: OK PackageFile: SICtools_1.36.0.tar.gz PackageFileSize: 1.531 MiB