Package: SGSeq Version: 1.40.0 Command: /home/biocbuild/R/R/bin/R CMD INSTALL SGSeq StartedAt: 2025-01-27 21:21:48 -0000 (Mon, 27 Jan 2025) EndedAt: 2025-01-27 21:22:39 -0000 (Mon, 27 Jan 2025) EllapsedTime: 51.5 seconds RetCode: 0 Status: OK