Package: SGSeq Version: 1.40.0 Command: /home/biocbuild/R/R/bin/R CMD build --keep-empty-dirs --no-resave-data SGSeq StartedAt: 2025-02-04 02:58:45 -0000 (Tue, 04 Feb 2025) EndedAt: 2025-02-04 03:03:45 -0000 (Tue, 04 Feb 2025) EllapsedTime: 300.5 seconds RetCode: 0 Status: OK PackageFile: SGSeq_1.40.0.tar.gz PackageFileSize: 1.673 MiB