Package: SGSeq Version: 1.40.0 Command: /Library/Frameworks/R.framework/Resources/bin/R CMD INSTALL SGSeq StartedAt: 2025-01-27 15:39:22 -0500 (Mon, 27 Jan 2025) EndedAt: 2025-01-27 15:40:52 -0500 (Mon, 27 Jan 2025) EllapsedTime: 90.0 seconds RetCode: 0 Status: OK