Package: SGCP Version: 1.6.0 Command: F:\biocbuild\bbs-3.20-bioc\R\bin\R.exe CMD check --no-multiarch --install=check:SGCP.install-out.txt --library=F:\biocbuild\bbs-3.20-bioc\R\library --no-vignettes --timings SGCP_1.6.0.tar.gz StartedAt: 2025-01-28 05:56:49 -0500 (Tue, 28 Jan 2025) EndedAt: 2025-01-28 06:03:01 -0500 (Tue, 28 Jan 2025) EllapsedTime: 372.0 seconds RetCode: 0 Status: OK CheckDir: SGCP.Rcheck Warnings: 0