Package: SGCP Version: 1.6.0 Command: rm -rf SGCP.buildbin-libdir && mkdir SGCP.buildbin-libdir && F:\biocbuild\bbs-3.20-bioc\R\bin\R.exe CMD INSTALL --build --library=SGCP.buildbin-libdir SGCP_1.6.0.tar.gz StartedAt: 2025-01-28 09:08:53 -0500 (Tue, 28 Jan 2025) EndedAt: 2025-01-28 09:10:41 -0500 (Tue, 28 Jan 2025) EllapsedTime: 107.8 seconds RetCode: 0 Status: OK PackageFile: SGCP_1.6.0.zip PackageFileSize: 2.633 MiB