Package: SGCP Version: 1.6.0 Command: /Library/Frameworks/R.framework/Resources/bin/R CMD INSTALL SGCP StartedAt: 2025-03-31 16:32:55 -0400 (Mon, 31 Mar 2025) EndedAt: 2025-03-31 16:34:43 -0400 (Mon, 31 Mar 2025) EllapsedTime: 107.9 seconds RetCode: 0 Status: OK