Package: SEtools Version: 1.20.0 Command: /home/biocbuild/R/R/bin/R CMD build --keep-empty-dirs --no-resave-data SEtools StartedAt: 2025-01-28 03:21:14 -0000 (Tue, 28 Jan 2025) EndedAt: 2025-01-28 03:22:15 -0000 (Tue, 28 Jan 2025) EllapsedTime: 61.0 seconds RetCode: 0 Status: OK PackageFile: SEtools_1.20.0.tar.gz PackageFileSize: 527.1 KiB