Package: SELEX Version: 1.38.0 Command: /home/biocbuild/R/R/bin/R CMD INSTALL SELEX StartedAt: 2025-02-03 20:31:41 -0000 (Mon, 03 Feb 2025) EndedAt: 2025-02-03 20:31:54 -0000 (Mon, 03 Feb 2025) EllapsedTime: 13.7 seconds RetCode: 0 Status: OK