Package: SELEX Version: 1.38.0 Command: F:\biocbuild\bbs-3.20-bioc\R\bin\R.exe CMD INSTALL SELEX StartedAt: 2025-03-31 15:44:28 -0400 (Mon, 31 Mar 2025) EndedAt: 2025-03-31 15:44:54 -0400 (Mon, 31 Mar 2025) EllapsedTime: 26.5 seconds RetCode: 0 Status: OK