Package: SELEX Version: 1.38.0 Command: chmod a+r SELEX -R && F:\biocbuild\bbs-3.20-bioc\R\bin\R.exe CMD build --keep-empty-dirs --no-resave-data SELEX StartedAt: 2025-03-31 21:51:31 -0400 (Mon, 31 Mar 2025) EndedAt: 2025-03-31 21:52:15 -0400 (Mon, 31 Mar 2025) EllapsedTime: 43.6 seconds RetCode: 0 Status: OK PackageFile: SELEX_1.38.0.tar.gz PackageFileSize: 4.109 MiB