Package: SELEX Version: 1.38.0 Command: /home/biocbuild/bbs-3.20-bioc/R/bin/R CMD build --keep-empty-dirs --no-resave-data --md5 SELEX StartedAt: 2025-03-31 19:05:22 -0400 (Mon, 31 Mar 2025) EndedAt: 2025-03-31 19:05:44 -0400 (Mon, 31 Mar 2025) EllapsedTime: 22.0 seconds RetCode: 0 Status: OK PackageFile: SELEX_1.38.0.tar.gz PackageFileSize: 4.038 MiB