Package: SELEX Version: 1.38.0 Command: /Library/Frameworks/R.framework/Resources/bin/R CMD build --keep-empty-dirs --no-resave-data SELEX StartedAt: 2025-03-31 21:57:43 -0400 (Mon, 31 Mar 2025) EndedAt: 2025-03-31 21:58:39 -0400 (Mon, 31 Mar 2025) EllapsedTime: 55.4 seconds RetCode: 0 Status: OK PackageFile: SELEX_1.38.0.tar.gz PackageFileSize: 4.034 MiB