Package: SCnorm Version: 1.28.0 Command: rm -rf SCnorm.buildbin-libdir && mkdir SCnorm.buildbin-libdir && F:\biocbuild\bbs-3.20-bioc\R\bin\R.exe CMD INSTALL --build --library=SCnorm.buildbin-libdir SCnorm_1.28.0.tar.gz StartedAt: 2025-04-01 09:10:20 -0400 (Tue, 01 Apr 2025) EndedAt: 2025-04-01 09:10:55 -0400 (Tue, 01 Apr 2025) EllapsedTime: 34.4 seconds RetCode: 0 Status: OK PackageFile: SCnorm_1.28.0.zip PackageFileSize: 3.048 MiB