Package: SCnorm Version: 1.28.0 Command: /Library/Frameworks/R.framework/Resources/bin/R CMD check --install=check:SCnorm.install-out.txt --library=/Library/Frameworks/R.framework/Resources/library --no-vignettes --timings SCnorm_1.28.0.tar.gz StartedAt: 2025-04-01 08:48:11 -0400 (Tue, 01 Apr 2025) EndedAt: 2025-04-01 08:54:20 -0400 (Tue, 01 Apr 2025) EllapsedTime: 368.4 seconds RetCode: 0 Status: OK CheckDir: SCnorm.Rcheck Warnings: 0