Package: SCOPE Version: 1.18.0 Command: rm -rf SCOPE.buildbin-libdir && mkdir SCOPE.buildbin-libdir && F:\biocbuild\bbs-3.20-bioc\R\bin\R.exe CMD INSTALL --build --library=SCOPE.buildbin-libdir SCOPE_1.18.0.tar.gz StartedAt: 2025-04-01 09:10:32 -0400 (Tue, 01 Apr 2025) EndedAt: 2025-04-01 09:11:24 -0400 (Tue, 01 Apr 2025) EllapsedTime: 51.4 seconds RetCode: 0 Status: OK PackageFile: SCOPE_1.18.0.zip PackageFileSize: 583.2 KiB