Package: SCOPE Version: 1.18.0 Command: /Library/Frameworks/R.framework/Resources/bin/R CMD build --keep-empty-dirs --no-resave-data SCOPE StartedAt: 2025-01-27 22:23:38 -0500 (Mon, 27 Jan 2025) EndedAt: 2025-01-27 22:46:20 -0500 (Mon, 27 Jan 2025) EllapsedTime: 1362.6 seconds RetCode: 0 Status: OK PackageFile: SCOPE_1.18.0.tar.gz PackageFileSize: 391.5 KiB