Package: SCOPE Version: 1.18.0 Command: /Library/Frameworks/R.framework/Resources/bin/R CMD build --keep-empty-dirs --no-resave-data SCOPE StartedAt: 2025-04-01 07:13:08 -0400 (Tue, 01 Apr 2025) EndedAt: 2025-04-01 07:23:26 -0400 (Tue, 01 Apr 2025) EllapsedTime: 618.6 seconds RetCode: 0 Status: OK PackageFile: SCOPE_1.18.0.tar.gz PackageFileSize: 391.8 KiB