Package: SCOPE Version: 1.18.0 Command: rm -rf SCOPE.buildbin-libdir && mkdir SCOPE.buildbin-libdir && /Users/biocbuild/BBS/utils/build-universal.sh SCOPE_1.18.0.tar.gz /Library/Frameworks/R.framework/Resources/bin/R SCOPE.buildbin-libdir StartedAt: 2025-01-29 16:30:02 -0500 (Wed, 29 Jan 2025) EndedAt: 2025-01-29 16:30:48 -0500 (Wed, 29 Jan 2025) EllapsedTime: 46.7 seconds RetCode: 0 Status: OK PackageFile: SCOPE_1.18.0.tgz PackageFileSize: 586.8 KiB