Package: SCFA Version: 1.16.0 Command: /Library/Frameworks/R.framework/Resources/bin/R CMD INSTALL SCFA StartedAt: 2025-03-31 16:08:06 -0400 (Mon, 31 Mar 2025) EndedAt: 2025-03-31 16:08:27 -0400 (Mon, 31 Mar 2025) EllapsedTime: 21.2 seconds RetCode: 0 Status: OK