Package: SCFA Version: 1.16.0 Command: rm -rf SCFA.buildbin-libdir && mkdir SCFA.buildbin-libdir && /Users/biocbuild/BBS/utils/build-universal.sh SCFA_1.16.0.tar.gz /Library/Frameworks/R.framework/Resources/bin/R SCFA.buildbin-libdir StartedAt: 2025-04-01 12:42:27 -0400 (Tue, 01 Apr 2025) EndedAt: 2025-04-01 12:42:50 -0400 (Tue, 01 Apr 2025) EllapsedTime: 23.2 seconds RetCode: 0 Status: OK PackageFile: SCFA_1.16.0.tgz PackageFileSize: 1.401 MiB