Package: SCFA Version: 1.16.0 Command: /Library/Frameworks/R.framework/Resources/bin/R CMD INSTALL SCFA StartedAt: 2025-02-03 17:08:08 -0500 (Mon, 03 Feb 2025) EndedAt: 2025-02-03 17:08:21 -0500 (Mon, 03 Feb 2025) EllapsedTime: 13.2 seconds RetCode: 0 Status: OK