Package: SCFA Version: 1.16.0 Command: rm -rf SCFA.buildbin-libdir && mkdir SCFA.buildbin-libdir && /Users/biocbuild/BBS/utils/build-universal.sh SCFA_1.16.0.tar.gz /Library/Frameworks/R.framework/Resources/bin/R SCFA.buildbin-libdir StartedAt: 2025-02-01 16:45:20 -0500 (Sat, 01 Feb 2025) EndedAt: 2025-02-01 16:45:35 -0500 (Sat, 01 Feb 2025) EllapsedTime: 15.0 seconds RetCode: 0 Status: OK PackageFile: SCFA_1.16.0.tgz PackageFileSize: 1.399 MiB