Package: SCBN Version: 1.24.0 Command: rm -rf SCBN.buildbin-libdir && mkdir SCBN.buildbin-libdir && F:\biocbuild\bbs-3.20-bioc\R\bin\R.exe CMD INSTALL --build --library=SCBN.buildbin-libdir SCBN_1.24.0.tar.gz StartedAt: 2025-04-01 09:08:58 -0400 (Tue, 01 Apr 2025) EndedAt: 2025-04-01 09:09:09 -0400 (Tue, 01 Apr 2025) EllapsedTime: 11.3 seconds RetCode: 0 Status: OK PackageFile: SCBN_1.24.0.zip PackageFileSize: 654 KiB