Package: SCArray Version: 1.14.0 Command: /home/biocbuild/R/R/bin/R CMD build --keep-empty-dirs --no-resave-data SCArray StartedAt: 2024-11-20 03:37:41 -0000 (Wed, 20 Nov 2024) EndedAt: 2024-11-20 03:39:17 -0000 (Wed, 20 Nov 2024) EllapsedTime: 96.1 seconds RetCode: 0 Status: OK PackageFile: SCArray_1.14.0.tar.gz PackageFileSize: 1.282 MiB