Package: SCArray Version: 1.14.0 Command: /Library/Frameworks/R.framework/Resources/bin/R CMD INSTALL SCArray StartedAt: 2025-03-31 17:42:18 -0400 (Mon, 31 Mar 2025) EndedAt: 2025-03-31 17:43:02 -0400 (Mon, 31 Mar 2025) EllapsedTime: 44.0 seconds RetCode: 0 Status: OK