Package: SCArray.sat Version: 1.6.0 Command: /home/biocbuild/R/R/bin/R CMD INSTALL SCArray.sat StartedAt: 2025-03-31 21:03:27 -0000 (Mon, 31 Mar 2025) EndedAt: 2025-03-31 21:04:19 -0000 (Mon, 31 Mar 2025) EllapsedTime: 52.6 seconds RetCode: 0 Status: OK