Package: SCArray.sat Version: 1.6.0 Command: /home/biocbuild/bbs-3.20-bioc/R/bin/R CMD check --install=check:SCArray.sat.install-out.txt --library=/home/biocbuild/bbs-3.20-bioc/R/site-library --timings SCArray.sat_1.6.0.tar.gz StartedAt: 2025-01-28 02:50:35 -0500 (Tue, 28 Jan 2025) EndedAt: 2025-01-28 02:56:23 -0500 (Tue, 28 Jan 2025) EllapsedTime: 348.7 seconds RetCode: 0 Status: OK CheckDir: SCArray.sat.Rcheck Warnings: 0