Package: SCArray.sat Version: 1.6.0 Command: /home/biocbuild/bbs-3.20-bioc/R/bin/R CMD build --keep-empty-dirs --no-resave-data --md5 SCArray.sat StartedAt: 2025-01-27 19:53:58 -0500 (Mon, 27 Jan 2025) EndedAt: 2025-01-27 19:55:20 -0500 (Mon, 27 Jan 2025) EllapsedTime: 82.1 seconds RetCode: 0 Status: OK PackageFile: SCArray.sat_1.6.0.tar.gz PackageFileSize: 665.9 KiB