Package: SCArray.sat Version: 1.6.0 Command: /Library/Frameworks/R.framework/Resources/bin/R CMD INSTALL SCArray.sat StartedAt: 2025-03-31 16:26:47 -0400 (Mon, 31 Mar 2025) EndedAt: 2025-03-31 16:28:14 -0400 (Mon, 31 Mar 2025) EllapsedTime: 87.1 seconds RetCode: 0 Status: OK