Package: SCArray.sat Version: 1.6.0 Command: rm -rf SCArray.sat.buildbin-libdir && mkdir SCArray.sat.buildbin-libdir && /Users/biocbuild/BBS/utils/build-universal.sh SCArray.sat_1.6.0.tar.gz /Library/Frameworks/R.framework/Resources/bin/R SCArray.sat.buildbin-libdir StartedAt: 2025-01-28 14:29:06 -0500 (Tue, 28 Jan 2025) EndedAt: 2025-01-28 14:31:01 -0500 (Tue, 28 Jan 2025) EllapsedTime: 115.9 seconds RetCode: 0 Status: OK PackageFile: SCArray.sat_1.6.0.tgz PackageFileSize: 816.3 KiB