Package: SCANVIS Version: 1.20.0 Command: /home/biocbuild/R/R/bin/R CMD build --keep-empty-dirs --no-resave-data SCANVIS StartedAt: 2025-04-01 02:21:12 -0000 (Tue, 01 Apr 2025) EndedAt: 2025-04-01 02:22:19 -0000 (Tue, 01 Apr 2025) EllapsedTime: 67.1 seconds RetCode: 0 Status: OK PackageFile: SCANVIS_1.20.0.tar.gz PackageFileSize: 464.6 KiB