Package: SCANVIS Version: 1.20.0 Command: /home/biocbuild/bbs-3.20-bioc/R/bin/R CMD build --keep-empty-dirs --no-resave-data --md5 SCANVIS StartedAt: 2025-01-27 19:53:49 -0500 (Mon, 27 Jan 2025) EndedAt: 2025-01-27 19:54:45 -0500 (Mon, 27 Jan 2025) EllapsedTime: 56.1 seconds RetCode: 0 Status: OK PackageFile: SCANVIS_1.20.0.tar.gz PackageFileSize: 471.5 KiB