Package: SCANVIS Version: 1.20.0 Command: /Library/Frameworks/R.framework/Resources/bin/R CMD check --install=check:SCANVIS.install-out.txt --library=/Library/Frameworks/R.framework/Resources/library --no-vignettes --timings SCANVIS_1.20.0.tar.gz StartedAt: 2025-01-28 09:41:24 -0500 (Tue, 28 Jan 2025) EndedAt: 2025-01-28 09:48:16 -0500 (Tue, 28 Jan 2025) EllapsedTime: 411.6 seconds RetCode: 0 Status: OK CheckDir: SCANVIS.Rcheck Warnings: 0