Package: SCANVIS Version: 1.20.0 Command: /Library/Frameworks/R.framework/Resources/bin/R CMD INSTALL SCANVIS StartedAt: 2025-03-31 15:55:51 -0400 (Mon, 31 Mar 2025) EndedAt: 2025-03-31 15:56:26 -0400 (Mon, 31 Mar 2025) EllapsedTime: 34.7 seconds RetCode: 0 Status: OK