Package: SCANVIS Version: 1.20.0 Command: rm -rf SCANVIS.buildbin-libdir && mkdir SCANVIS.buildbin-libdir && /Users/biocbuild/BBS/utils/build-universal.sh SCANVIS_1.20.0.tar.gz /Library/Frameworks/R.framework/Resources/bin/R SCANVIS.buildbin-libdir StartedAt: 2025-01-29 16:25:57 -0500 (Wed, 29 Jan 2025) EndedAt: 2025-01-29 16:26:37 -0500 (Wed, 29 Jan 2025) EllapsedTime: 40.2 seconds RetCode: 0 Status: OK PackageFile: SCANVIS_1.20.0.tgz PackageFileSize: 430 KiB