Package: SBMLR Version: 2.2.0 Command: F:\biocbuild\bbs-3.20-bioc\R\bin\R.exe CMD INSTALL SBMLR StartedAt: 2025-03-31 15:21:29 -0400 (Mon, 31 Mar 2025) EndedAt: 2025-03-31 15:21:40 -0400 (Mon, 31 Mar 2025) EllapsedTime: 10.7 seconds RetCode: 0 Status: OK