Package: SARC Version: 1.4.0 Command: /home/biocbuild/R/R/bin/R CMD check --install=check:SARC.install-out.txt --library=/home/biocbuild/R/R/site-library --no-vignettes --timings SARC_1.4.0.tar.gz StartedAt: 2025-01-28 10:53:56 -0000 (Tue, 28 Jan 2025) EndedAt: 2025-01-28 11:02:26 -0000 (Tue, 28 Jan 2025) EllapsedTime: 510.4 seconds RetCode: 0 Status: OK CheckDir: SARC.Rcheck Warnings: 0