Package: SARC Version: 1.4.0 Command: /Library/Frameworks/R.framework/Resources/bin/R CMD build --keep-empty-dirs --no-resave-data SARC StartedAt: 2025-04-01 06:46:53 -0400 (Tue, 01 Apr 2025) EndedAt: 2025-04-01 06:49:25 -0400 (Tue, 01 Apr 2025) EllapsedTime: 152.0 seconds RetCode: 0 Status: OK PackageFile: SARC_1.4.0.tar.gz PackageFileSize: 3.51 MiB